BEGIN:VCALENDAR
VERSION:2.0
PRODID:-//Eastern Region of Alpha Phi Alpha Fraternity - ECPv6.15.16.1//NONSGML v1.0//EN
CALSCALE:GREGORIAN
METHOD:PUBLISH
X-WR-CALNAME:Eastern Region of Alpha Phi Alpha Fraternity
X-ORIGINAL-URL:https://www.alphaeast.com
X-WR-CALDESC:Events for Eastern Region of Alpha Phi Alpha Fraternity
REFRESH-INTERVAL;VALUE=DURATION:PT1H
X-Robots-Tag:noindex
X-PUBLISHED-TTL:PT1H
BEGIN:VTIMEZONE
TZID:America/New_York
BEGIN:DAYLIGHT
TZOFFSETFROM:-0500
TZOFFSETTO:-0400
TZNAME:EDT
DTSTART:20240310T070000
END:DAYLIGHT
BEGIN:STANDARD
TZOFFSETFROM:-0400
TZOFFSETTO:-0500
TZNAME:EST
DTSTART:20241103T060000
END:STANDARD
BEGIN:DAYLIGHT
TZOFFSETFROM:-0500
TZOFFSETTO:-0400
TZNAME:EDT
DTSTART:20250309T070000
END:DAYLIGHT
BEGIN:STANDARD
TZOFFSETFROM:-0400
TZOFFSETTO:-0500
TZNAME:EST
DTSTART:20251102T060000
END:STANDARD
BEGIN:DAYLIGHT
TZOFFSETFROM:-0500
TZOFFSETTO:-0400
TZNAME:EDT
DTSTART:20260308T070000
END:DAYLIGHT
BEGIN:STANDARD
TZOFFSETFROM:-0400
TZOFFSETTO:-0500
TZNAME:EST
DTSTART:20261101T060000
END:STANDARD
END:VTIMEZONE
BEGIN:VEVENT
DTSTART;TZID=America/New_York:20251107T080000
DTEND;TZID=America/New_York:20251108T170000
DTSTAMP:20260424T021856
CREATED:20250822T040109Z
LAST-MODIFIED:20251101T000717Z
UID:10000240-1762502400-1762621200@www.alphaeast.com
SUMMARY:34th MAAC District Conference
DESCRIPTION:Dear Brothers of the MAAC\, \nThis message serves as the official invitation for all Brothers to register and attend the 34th Annual Mid-Atlantic Association of Alpha Phi Alpha Chapters (MAAC) District Conference. \nThis year’s District Conference will take place in person from Friday\, November 7 to Saturday\, November 8\, 2025\, at the University of the District of Columbia (4200 Connecticut Avenue NW\, Washington\, DC 20008). \nOur conference theme is: Retention. Accountability. Communication. Efficiency. \nThe attire for all attendees: \n\nFriday\, November 7 (Community Service): Alpha Paraphernalia\nFriday\, November 7 (Public Program): Suit and Tie or Blazer\, Slacks\, and Tie\nFriday\, November 7 (Scholar’s Bowl\, Step Show\, and Pageant): Alpha Paraphernalia\nSaturday\, November 8 (Conference Sessions): Alpha Attire (Black Suit\, White Shirt\, Black and/or Gold Tie)\n\nPlease note the following: \n\nVendors will be on site Friday and Saturday.\nA Brotherhood Fellowship will take place after the Conference.\nA light breakfast and a hot lunch will be provided.\nNo recordings or pictures are permitted during business sessions. An official photographer will be present to capture conference highlights.\n\nWe are excited to come together as Brothers to engage in meaningful business sessions\, reconnect socially\, and strengthen our professional and fraternal bonds. We encourage you to register as soon as possible to confirm your participation in this important event. \nAs a reminder\, each chapter is required to register its full delegate strength as certified during the most recent Regional Convention. \nWe look forward to your presence and participation as we continue to advance the mission and vision of our great Fraternity. Let’s run this R.A.C.E. together! \nRegistration & Activity Fees: \n\nAlumni Chapter Delegates Registration $225\nAlumni Chapter Delegates Registration – Early $175\nCollege Chapter Delegates Registration $150\nCollege Chapter Delegates Registration – Early $100\nAlumni Chapter Non-Delegate Brother Registration $225\nAlumni Chapter Non-Delegate Brother Registration – Early $175\nCollege Brother Non-Delegate Brother Registration $175\nCollege Brother Non-Delegate Brother Registration – Early $100\nMAAC Leadership Free\nSpring 2025 Neophyte Brother Registration Free\nFall 2025 Neophyte Alumni Brother Registration $250\nFall 2025 Neophyte College Brother Registration $175\nAlpha Brother Vendor $200\nGeneral Licensed Vendor $250\nNon-licensed Vendor $300\n\nIMPORTANT NOTE: All brothers must register by no later than Friday\, October 24\, 2025\, to avoid a $25 late\nfee per registration. Chapter Presidents will receive a message requesting confirmation of the delegates as\nregistered the week of our district conference. \n\n\n	Related
URL:https://www.alphaeast.com/events/maac34th/
LOCATION:University of the District of Columbia\, MD\, United States
ATTACH;FMTTYPE=image/jpeg:https://www.alphaeast.com/wp-content/uploads/2025/08/MAAC-34th-District-Director.jpg
END:VEVENT
END:VCALENDAR