BEGIN:VCALENDAR
VERSION:2.0
PRODID:-//Eastern Region of Alpha Phi Alpha Fraternity - ECPv6.15.16.1//NONSGML v1.0//EN
CALSCALE:GREGORIAN
METHOD:PUBLISH
X-WR-CALNAME:Eastern Region of Alpha Phi Alpha Fraternity
X-ORIGINAL-URL:https://www.alphaeast.com
X-WR-CALDESC:Events for Eastern Region of Alpha Phi Alpha Fraternity
REFRESH-INTERVAL;VALUE=DURATION:PT1H
X-Robots-Tag:noindex
X-PUBLISHED-TTL:PT1H
BEGIN:VTIMEZONE
TZID:America/New_York
BEGIN:DAYLIGHT
TZOFFSETFROM:-0500
TZOFFSETTO:-0400
TZNAME:EDT
DTSTART:20120311T070000
END:DAYLIGHT
BEGIN:STANDARD
TZOFFSETFROM:-0400
TZOFFSETTO:-0500
TZNAME:EST
DTSTART:20121104T060000
END:STANDARD
BEGIN:DAYLIGHT
TZOFFSETFROM:-0500
TZOFFSETTO:-0400
TZNAME:EDT
DTSTART:20130310T070000
END:DAYLIGHT
BEGIN:STANDARD
TZOFFSETFROM:-0400
TZOFFSETTO:-0500
TZNAME:EST
DTSTART:20131103T060000
END:STANDARD
BEGIN:DAYLIGHT
TZOFFSETFROM:-0500
TZOFFSETTO:-0400
TZNAME:EDT
DTSTART:20140309T070000
END:DAYLIGHT
BEGIN:STANDARD
TZOFFSETFROM:-0400
TZOFFSETTO:-0500
TZNAME:EST
DTSTART:20141102T060000
END:STANDARD
END:VTIMEZONE
BEGIN:VEVENT
DTSTART;TZID=America/New_York:20131005T080000
DTEND;TZID=America/New_York:20131005T150000
DTSTAMP:20260424T071348
CREATED:20131004T144412Z
LAST-MODIFIED:20131004T152227Z
UID:10000031-1380960000-1380985200@www.alphaeast.com
SUMMARY:3rd Annual Henry Arthur Calls Scholarship Golf Tournament
DESCRIPTION:Mu Lambda Chapter and Foundation\nPresents\n3rd Annual Henry Arthur Callis Scholarship Golf Tournament \nWhen: Saturday\, October 5th\, 2013 \nTime: 9:00 a.m. (Shotgun Start) \nWhere: Patuxent Greens\, Laurel\, MD \nPrice: $125.00/Per Person\nBreakfast & Lunch will be served!\nDoor Prizes! Goodie Bags! \nContact: Bro.Frank King (202) 841-6195 or fking@law.howard.edu\nBro. Tim Fitzgerald (301) 332-7507 or timfitz06@comcast.net \n\n\n	Related
URL:https://www.alphaeast.com/events/3rd-annual-henry-arthur-calls-scholarship-golf-tournament/
LOCATION:Patuxent Greens Golf Club\, 14415 Greenview Dr.\, Laurel\, MD\, 20708\, United States
CATEGORIES:Chapter Event,ERVP
END:VEVENT
END:VCALENDAR