BEGIN:VCALENDAR
VERSION:2.0
PRODID:-//Eastern Region of Alpha Phi Alpha Fraternity - ECPv6.15.16.1//NONSGML v1.0//EN
CALSCALE:GREGORIAN
METHOD:PUBLISH
X-ORIGINAL-URL:https://www.alphaeast.com
X-WR-CALDESC:Events for Eastern Region of Alpha Phi Alpha Fraternity
REFRESH-INTERVAL;VALUE=DURATION:PT1H
X-Robots-Tag:noindex
X-PUBLISHED-TTL:PT1H
BEGIN:VTIMEZONE
TZID:America/New_York
BEGIN:DAYLIGHT
TZOFFSETFROM:-0500
TZOFFSETTO:-0400
TZNAME:EDT
DTSTART:20240310T070000
END:DAYLIGHT
BEGIN:STANDARD
TZOFFSETFROM:-0400
TZOFFSETTO:-0500
TZNAME:EST
DTSTART:20241103T060000
END:STANDARD
BEGIN:DAYLIGHT
TZOFFSETFROM:-0500
TZOFFSETTO:-0400
TZNAME:EDT
DTSTART:20250309T070000
END:DAYLIGHT
BEGIN:STANDARD
TZOFFSETFROM:-0400
TZOFFSETTO:-0500
TZNAME:EST
DTSTART:20251102T060000
END:STANDARD
BEGIN:DAYLIGHT
TZOFFSETFROM:-0500
TZOFFSETTO:-0400
TZNAME:EDT
DTSTART:20260308T070000
END:DAYLIGHT
BEGIN:STANDARD
TZOFFSETFROM:-0400
TZOFFSETTO:-0500
TZNAME:EST
DTSTART:20261101T060000
END:STANDARD
END:VTIMEZONE
BEGIN:VEVENT
DTSTART;TZID=America/New_York:20250925T180000
DTEND;TZID=America/New_York:20250925T200000
DTSTAMP:20260424T084550
CREATED:20250914T125006Z
LAST-MODIFIED:20250914T125324Z
UID:10000243-1758823200-1758830400@www.alphaeast.com
SUMMARY:Official Alpha Phi Alpha Fraternity\, Inc. Congressional Black Caucus Legislative Conference Reception\, “Founded For The Fight”
DESCRIPTION:Official Alpha Phi Alpha Fraternity\, Inc. Congressional Black Caucus Legislative Conference Reception\, “Founded For The Fight”\nJoin Alpha Phi Alpha Fraternity\, Inc. at its official Congressional Black Caucus Legislative Conference Reception\, \n“Founded For The Fight” at the Homer Building\, 601 13th St NW\, Washington\, DC 20005 \nThursday\, Sept. 25 from 6:30 p.m. – 8:30 p.m. \nRegister via QR Code. \n\n\n	Related
URL:https://www.alphaeast.com/events/founded-for-the-fight/
LOCATION:Homer Building\, 601 13th St NW\, Washington\, DC\, 20005\, United States
ATTACH;FMTTYPE=image/jpeg:https://www.alphaeast.com/wp-content/uploads/2025/09/Official-APhiA-Congressional-Black-Caucus-Legislative-Conference-Reception-Founded-For-The-Fight.jpg
END:VEVENT
END:VCALENDAR