BEGIN:VCALENDAR
VERSION:2.0
PRODID:-//Eastern Region of Alpha Phi Alpha Fraternity - ECPv6.15.16.1//NONSGML v1.0//EN
CALSCALE:GREGORIAN
METHOD:PUBLISH
X-ORIGINAL-URL:https://www.alphaeast.com
X-WR-CALDESC:Events for Eastern Region of Alpha Phi Alpha Fraternity
REFRESH-INTERVAL;VALUE=DURATION:PT1H
X-Robots-Tag:noindex
X-PUBLISHED-TTL:PT1H
BEGIN:VTIMEZONE
TZID:America/New_York
BEGIN:DAYLIGHT
TZOFFSETFROM:-0500
TZOFFSETTO:-0400
TZNAME:EDT
DTSTART:20190310T070000
END:DAYLIGHT
BEGIN:STANDARD
TZOFFSETFROM:-0400
TZOFFSETTO:-0500
TZNAME:EST
DTSTART:20191103T060000
END:STANDARD
BEGIN:DAYLIGHT
TZOFFSETFROM:-0500
TZOFFSETTO:-0400
TZNAME:EDT
DTSTART:20200308T070000
END:DAYLIGHT
BEGIN:STANDARD
TZOFFSETFROM:-0400
TZOFFSETTO:-0500
TZNAME:EST
DTSTART:20201101T060000
END:STANDARD
BEGIN:DAYLIGHT
TZOFFSETFROM:-0500
TZOFFSETTO:-0400
TZNAME:EDT
DTSTART:20210314T070000
END:DAYLIGHT
BEGIN:STANDARD
TZOFFSETFROM:-0400
TZOFFSETTO:-0500
TZNAME:EST
DTSTART:20211107T060000
END:STANDARD
END:VTIMEZONE
BEGIN:VEVENT
DTSTART;VALUE=DATE:20200402
DTEND;VALUE=DATE:20200406
DTSTAMP:20260423T222350
CREATED:20191006T140058Z
LAST-MODIFIED:20200211T152546Z
UID:10000015-1585785600-1586131199@www.alphaeast.com
SUMMARY:88th Annual Eastern Region Convention
DESCRIPTION:Greetings Brothers of the Eastern Region\, \nIn accordance with Article III\, Section 2.3 of the Alpha Phi Alpha Fraternity — Constitution\, the leadership of the Eastern Region is pleased to present the official Convention Call for the 88th Anniversary Eastern Region Convention of Alpha Phi Alpha Fraternity\, Incorporated to be held April 2nd – April 5th\, 2020\, in the country of Bermuda. \nThis year our convention theme is An Inescapable Responsibility to Shape the Future of the World — A Global Platform! The purpose of this theme is us arming the Region\, Districts\, Areas\, Chapters and Members with training that will strengthen our engagement in the communities we serve and ourselves. As you will see from the attached schedule\, we want to address real issues while providing training to increase our political\, economic and global standing of Alpha while purposely addressing The Urgency of Now. \nEach workshop will focus on a specific group of brothers with the purpose of raising their ALPHAIQ! As usual\, this year the regional convention will have specific educational tracks that brothers will attend which focus on their core skill sets or desires. \nWe also plan to Rebrand\, Rebuild and Redefine Alpha the brotherhood through our trainings as well. We want to engage Brothers in bringing The Alpha Evolution to fruition. We are asking Brothers\, when you register\, to indicate your major and/or profession as on the Friday of the Convention we will have a focused conversation among brothers about career development and empowering our college and alumni brothers in their professional journeys. \nBrothers we look forward to seeing all of you at the 2020 Regional Convention as the Brothers of Epsilon Theta Lambda & IAAC work tirelessly to provide you the greatest convention experience possible. \nWe look forward to when Brothers will once again “enter\, shake hands\, exchange greetings and depart friends” in our beloved House of Alpha! \nFraternal\,\nLucien J. Metellus\nEastern Regional Vice President \nHarold Daniels\, III\nEastern Regional Assistant Vice President \n\n\n	Related
URL:https://www.alphaeast.com/events/88th-annual-eastern-region-convention/
LOCATION:Fairmount Southampton\, 101 South Shore Road\, Southampton\, Bermuda SN 02\, Bermuda
CATEGORIES:Alumni,College,ERAVP,ERVP,Leadership Team,Regional Event
END:VEVENT
END:VCALENDAR