BEGIN:VCALENDAR
VERSION:2.0
PRODID:-//Eastern Region of Alpha Phi Alpha Fraternity - ECPv6.15.16.1//NONSGML v1.0//EN
CALSCALE:GREGORIAN
METHOD:PUBLISH
X-WR-CALNAME:Eastern Region of Alpha Phi Alpha Fraternity
X-ORIGINAL-URL:https://www.alphaeast.com
X-WR-CALDESC:Events for Eastern Region of Alpha Phi Alpha Fraternity
REFRESH-INTERVAL;VALUE=DURATION:PT1H
X-Robots-Tag:noindex
X-PUBLISHED-TTL:PT1H
BEGIN:VTIMEZONE
TZID:America/New_York
BEGIN:DAYLIGHT
TZOFFSETFROM:-0500
TZOFFSETTO:-0400
TZNAME:EDT
DTSTART:20130310T070000
END:DAYLIGHT
BEGIN:STANDARD
TZOFFSETFROM:-0400
TZOFFSETTO:-0500
TZNAME:EST
DTSTART:20131103T060000
END:STANDARD
BEGIN:DAYLIGHT
TZOFFSETFROM:-0500
TZOFFSETTO:-0400
TZNAME:EDT
DTSTART:20140309T070000
END:DAYLIGHT
BEGIN:STANDARD
TZOFFSETFROM:-0400
TZOFFSETTO:-0500
TZNAME:EST
DTSTART:20141102T060000
END:STANDARD
BEGIN:DAYLIGHT
TZOFFSETFROM:-0500
TZOFFSETTO:-0400
TZNAME:EDT
DTSTART:20150308T070000
END:DAYLIGHT
BEGIN:STANDARD
TZOFFSETFROM:-0400
TZOFFSETTO:-0500
TZNAME:EST
DTSTART:20151101T060000
END:STANDARD
END:VTIMEZONE
BEGIN:VEVENT
DTSTART;VALUE=DATE:20141207
DTEND;VALUE=DATE:20141208
DTSTAMP:20260425T164752
CREATED:20141201T203039Z
LAST-MODIFIED:20141201T203103Z
UID:10000064-1417910400-1417996799@www.alphaeast.com
SUMMARY:Sunday Service In Hartford/Dinner at Dakota Steakhouse
DESCRIPTION:The Beta Sigma Lambda Chapter of Alpha Phi Alpha Fraternity\, Inc. will be attending Faith Congregational Church in Hartford\, CT for church service\, followed by Founders Day Dinner at Dakota Steakhouse in Rocky Hill\, CT. Tickets for those will be $40 for adults and $20 for children. \n\n\n	Related
URL:https://www.alphaeast.com/events/sunday-service-in-hartford/
LOCATION:Dakota Steakhouse\, 1489 Silas Deane Hwy\, Rocky Hill\, CT\, 06067\, United States
END:VEVENT
END:VCALENDAR