BEGIN:VCALENDAR
VERSION:2.0
PRODID:-//Eastern Region of Alpha Phi Alpha Fraternity - ECPv6.15.16.1//NONSGML v1.0//EN
CALSCALE:GREGORIAN
METHOD:PUBLISH
X-WR-CALNAME:Eastern Region of Alpha Phi Alpha Fraternity
X-ORIGINAL-URL:https://www.alphaeast.com
X-WR-CALDESC:Events for Eastern Region of Alpha Phi Alpha Fraternity
REFRESH-INTERVAL;VALUE=DURATION:PT1H
X-Robots-Tag:noindex
X-PUBLISHED-TTL:PT1H
BEGIN:VTIMEZONE
TZID:America/New_York
BEGIN:DAYLIGHT
TZOFFSETFROM:-0500
TZOFFSETTO:-0400
TZNAME:EDT
DTSTART:20120311T070000
END:DAYLIGHT
BEGIN:STANDARD
TZOFFSETFROM:-0400
TZOFFSETTO:-0500
TZNAME:EST
DTSTART:20121104T060000
END:STANDARD
BEGIN:DAYLIGHT
TZOFFSETFROM:-0500
TZOFFSETTO:-0400
TZNAME:EDT
DTSTART:20130310T070000
END:DAYLIGHT
BEGIN:STANDARD
TZOFFSETFROM:-0400
TZOFFSETTO:-0500
TZNAME:EST
DTSTART:20131103T060000
END:STANDARD
BEGIN:DAYLIGHT
TZOFFSETFROM:-0500
TZOFFSETTO:-0400
TZNAME:EDT
DTSTART:20140309T070000
END:DAYLIGHT
BEGIN:STANDARD
TZOFFSETFROM:-0400
TZOFFSETTO:-0500
TZNAME:EST
DTSTART:20141102T060000
END:STANDARD
END:VTIMEZONE
BEGIN:VEVENT
DTSTART;VALUE=DATE:20131116
DTEND;VALUE=DATE:20131117
DTSTAMP:20260424T202918
CREATED:20131012T233449Z
LAST-MODIFIED:20131012T233550Z
UID:10000036-1384560000-1384646399@www.alphaeast.com
SUMMARY:New Jersey Association of Alpha Phi Alpha Chapters (NJAAPAC) District Conference
DESCRIPTION:Related
URL:https://www.alphaeast.com/events/new-jersey-association-of-alpha-phi-alpha-chapters-njaapac-district-conference/
LOCATION:Rowan University\, Bozorth Hall\, 300 Memorial Cir\, Glassboro\, NJ\, 08028\, United States
CATEGORIES:District Event,ERVP
END:VEVENT
END:VCALENDAR