BEGIN:VCALENDAR
VERSION:2.0
PRODID:-//Eastern Region of Alpha Phi Alpha Fraternity - ECPv6.15.16.1//NONSGML v1.0//EN
CALSCALE:GREGORIAN
METHOD:PUBLISH
X-WR-CALNAME:Eastern Region of Alpha Phi Alpha Fraternity
X-ORIGINAL-URL:https://www.alphaeast.com
X-WR-CALDESC:Events for Eastern Region of Alpha Phi Alpha Fraternity
REFRESH-INTERVAL;VALUE=DURATION:PT1H
X-Robots-Tag:noindex
X-PUBLISHED-TTL:PT1H
BEGIN:VTIMEZONE
TZID:America/New_York
BEGIN:DAYLIGHT
TZOFFSETFROM:-0500
TZOFFSETTO:-0400
TZNAME:EDT
DTSTART:20120311T070000
END:DAYLIGHT
BEGIN:STANDARD
TZOFFSETFROM:-0400
TZOFFSETTO:-0500
TZNAME:EST
DTSTART:20121104T060000
END:STANDARD
BEGIN:DAYLIGHT
TZOFFSETFROM:-0500
TZOFFSETTO:-0400
TZNAME:EDT
DTSTART:20130310T070000
END:DAYLIGHT
BEGIN:STANDARD
TZOFFSETFROM:-0400
TZOFFSETTO:-0500
TZNAME:EST
DTSTART:20131103T060000
END:STANDARD
BEGIN:DAYLIGHT
TZOFFSETFROM:-0500
TZOFFSETTO:-0400
TZNAME:EDT
DTSTART:20140309T070000
END:DAYLIGHT
BEGIN:STANDARD
TZOFFSETFROM:-0400
TZOFFSETTO:-0500
TZNAME:EST
DTSTART:20141102T060000
END:STANDARD
BEGIN:DAYLIGHT
TZOFFSETFROM:-0500
TZOFFSETTO:-0400
TZNAME:EDT
DTSTART:20150308T070000
END:DAYLIGHT
BEGIN:STANDARD
TZOFFSETFROM:-0400
TZOFFSETTO:-0500
TZNAME:EST
DTSTART:20151101T060000
END:STANDARD
BEGIN:DAYLIGHT
TZOFFSETFROM:-0500
TZOFFSETTO:-0400
TZNAME:EDT
DTSTART:20160313T070000
END:DAYLIGHT
BEGIN:STANDARD
TZOFFSETFROM:-0400
TZOFFSETTO:-0500
TZNAME:EST
DTSTART:20161106T060000
END:STANDARD
BEGIN:DAYLIGHT
TZOFFSETFROM:-0500
TZOFFSETTO:-0400
TZNAME:EDT
DTSTART:20170312T070000
END:DAYLIGHT
BEGIN:STANDARD
TZOFFSETFROM:-0400
TZOFFSETTO:-0500
TZNAME:EST
DTSTART:20171105T060000
END:STANDARD
BEGIN:DAYLIGHT
TZOFFSETFROM:-0500
TZOFFSETTO:-0400
TZNAME:EDT
DTSTART:20180311T070000
END:DAYLIGHT
BEGIN:STANDARD
TZOFFSETFROM:-0400
TZOFFSETTO:-0500
TZNAME:EST
DTSTART:20181104T060000
END:STANDARD
BEGIN:DAYLIGHT
TZOFFSETFROM:-0500
TZOFFSETTO:-0400
TZNAME:EDT
DTSTART:20190310T070000
END:DAYLIGHT
BEGIN:STANDARD
TZOFFSETFROM:-0400
TZOFFSETTO:-0500
TZNAME:EST
DTSTART:20191103T060000
END:STANDARD
BEGIN:DAYLIGHT
TZOFFSETFROM:-0500
TZOFFSETTO:-0400
TZNAME:EDT
DTSTART:20200308T070000
END:DAYLIGHT
BEGIN:STANDARD
TZOFFSETFROM:-0400
TZOFFSETTO:-0500
TZNAME:EST
DTSTART:20201101T060000
END:STANDARD
BEGIN:DAYLIGHT
TZOFFSETFROM:-0500
TZOFFSETTO:-0400
TZNAME:EDT
DTSTART:20210314T070000
END:DAYLIGHT
BEGIN:STANDARD
TZOFFSETFROM:-0400
TZOFFSETTO:-0500
TZNAME:EST
DTSTART:20211107T060000
END:STANDARD
BEGIN:DAYLIGHT
TZOFFSETFROM:-0500
TZOFFSETTO:-0400
TZNAME:EDT
DTSTART:20220313T070000
END:DAYLIGHT
BEGIN:STANDARD
TZOFFSETFROM:-0400
TZOFFSETTO:-0500
TZNAME:EST
DTSTART:20221106T060000
END:STANDARD
BEGIN:DAYLIGHT
TZOFFSETFROM:-0500
TZOFFSETTO:-0400
TZNAME:EDT
DTSTART:20230312T070000
END:DAYLIGHT
BEGIN:STANDARD
TZOFFSETFROM:-0400
TZOFFSETTO:-0500
TZNAME:EST
DTSTART:20231105T060000
END:STANDARD
BEGIN:DAYLIGHT
TZOFFSETFROM:-0500
TZOFFSETTO:-0400
TZNAME:EDT
DTSTART:20240310T070000
END:DAYLIGHT
BEGIN:STANDARD
TZOFFSETFROM:-0400
TZOFFSETTO:-0500
TZNAME:EST
DTSTART:20241103T060000
END:STANDARD
BEGIN:DAYLIGHT
TZOFFSETFROM:-0500
TZOFFSETTO:-0400
TZNAME:EDT
DTSTART:20250309T070000
END:DAYLIGHT
BEGIN:STANDARD
TZOFFSETFROM:-0400
TZOFFSETTO:-0500
TZNAME:EST
DTSTART:20251102T060000
END:STANDARD
BEGIN:DAYLIGHT
TZOFFSETFROM:-0500
TZOFFSETTO:-0400
TZNAME:EDT
DTSTART:20260308T070000
END:DAYLIGHT
BEGIN:STANDARD
TZOFFSETFROM:-0400
TZOFFSETTO:-0500
TZNAME:EST
DTSTART:20261101T060000
END:STANDARD
END:VTIMEZONE
BEGIN:VEVENT
DTSTART;TZID=America/New_York:20250920T090000
DTEND;TZID=America/New_York:20250920T140000
DTSTAMP:20260424T002709
CREATED:20250822T033828Z
LAST-MODIFIED:20250916T163031Z
UID:10000233-1758358800-1758376800@www.alphaeast.com
SUMMARY:Eastern Regional Staff Meeting
DESCRIPTION:STAFF MEETING AGENDA\n\n\n\n\nATTENDEES: EASTERN REGION STAFF\, DISTRICT DIRECTORS\, AREA DIRECTORS\, CHAPTER PRESIDENTS\, CHAPTER DEANS\, CHAPTER ADVISORS\, RISK MANAGEMENT OFFICER POCs\nTopics: Senior Leadership Team\, IMDP\, Risk Management and Election Process Protocol. \n\n\n\n\nSATURDAY\, SEPTEMBER 20\, 2025 \n\n\n\nTIME:\nSESSION:\n\n\n9:00am\nOpening Session \n\n★ 9:00am: Call to Order and Administrative Review\, Bro. Duane Edwards\, Executive Director\, Eastern Region\n★ 9:15am: Meeting Overview and Update\n\nReview of the 2025 Alpha Phi Alpha Fraternity\, Eastern Region Senior Leadership Team Strategic Planning\nStrategic Goals and Objectives for Year 1\nBro. Rasheen Smith\, Eastern Regional Vice President and Bro. Jeremy Henderson\, Eastern Regional Assistant Vice President\n\n\n\n\n\n\n10:00am\nIMDP Discussion – What’s Changed and What Remains the Same: Brother Dontae Ryan and Brother Bruce Hill\, Co-Directors of Membership for the Eastern Region\, Brother Alprentice Rawls\, Director of Membership Chair for Alpha Phi Alpha Fraternity\, Inc. \n\nMAAC and VACAPAF alignment\nONECA\, NYACOA\, PAAC\, NJAPAAC\, and International alignment\nKey Dates (application windows\, District Director dates for IMDP window)\nRequest for IMDP forms (process)\nRitual distribution process\nIMDP training requirements (in person training vs self paced training)\nChief Dean Certification\n\n\n\n\n11:00am\n\n15 Minute Stretch Break \n\n\n\n11:15am\nRisk Management Updates: Brother David Rogers\, Risk Management Officer for Alpha Phi Alpha Fraternity\, Inc. \n\nRisk Management Updates\nDistrict Risk Management Officers (Pilot Program)\n\n\n\n\n12:00pm\nElection Process Protocol Changes. Bro. John Williams\, Standing Committee on Elections Chair for Alpha Phi Alpha Fraternity\, Inc. \n\nApproval process for new Election Policy Manual\nFeedback from chapters\nElection Training for Region and entire Fraternity\n\n\n\n\n1:00pm\nRecap: Good of the Order\nBro. Duane Edwards\, Executive Director\, Eastern Region
URL:https://www.alphaeast.com/events/eastern-regional-staff-meeting/
LOCATION:Virtual
CATEGORIES:Alumni,College,ERAVP,ERVP,Leadership Summit,Leadership Team,Regional Event
ATTACH;FMTTYPE=image/jpeg:https://www.alphaeast.com/wp-content/uploads/2025/05/2025StaffMeeting_CollegeBrothersRetreat-e1758039000675.jpg
END:VEVENT
BEGIN:VEVENT
DTSTART;VALUE=DATE:20160930
DTEND;VALUE=DATE:20161002
DTSTAMP:20260424T002709
CREATED:20160625T150724Z
LAST-MODIFIED:20160625T153801Z
UID:10000076-1475193600-1475366399@www.alphaeast.com
SUMMARY:2016 Leadership & College Brothers' Summit
DESCRIPTION:Location for the 2016 Leadership & College Brothers’ Summit is TBD
URL:https://www.alphaeast.com/events/2016-leadership-college-brothers-summit/
LOCATION:TBD
CATEGORIES:Alumni,Chapter Event,College,College Brothers Summit,ERAVP,ERVP,Leadership Summit,Regional Event
ORGANIZER;CN="Dr. D. L. Ryan":MAILTO:ChiefOfStaff@AlphaEast.com
END:VEVENT
BEGIN:VEVENT
DTSTART;VALUE=DATE:20150918
DTEND;VALUE=DATE:20150920
DTSTAMP:20260424T002709
CREATED:20150715T205402Z
LAST-MODIFIED:20160625T153751Z
UID:10000072-1442534400-1442707199@www.alphaeast.com
SUMMARY:2015 Leadership & College Brothers’ Summit
DESCRIPTION:
URL:https://www.alphaeast.com/events/2015-leadership-college-brothers-summit/
LOCATION:University of Pennsylvania Irvine Auditorium\, 3401 Spruce Street\, Philadelphia\, PA\, 19104\, United States
CATEGORIES:Alumni,College,College Brothers Summit,Leadership Summit
END:VEVENT
BEGIN:VEVENT
DTSTART;VALUE=DATE:20140912
DTEND;VALUE=DATE:20140914
DTSTAMP:20260424T002709
CREATED:20140602T133436Z
LAST-MODIFIED:20160625T153814Z
UID:10000046-1410480000-1410652799@www.alphaeast.com
SUMMARY:2014 Fall Leadership & College Brothers Summit
DESCRIPTION:The Leadership and College Brothers’ Summit will take place on September 12th & 13th\, 2014 at the Westin Princeton Hotel\, located at 201 Village Blvd in Princeton\, NJ 08540.To register (a nominal fee of $10\, per brother\, is being required to off-set the cost of lunch\, snacks and beverages). CLICK HERE . The last day to register is September 5th. The Friday session will begin promptly at 9:30am. The following positions are required to attend:* District Directors* Assistant District Directors* Chief Deans (May or May Not be Area Director)* Chapter Deans* Alpha AdvisorsThe Saturday session will begin promptly at 8:30am and the following positions are required to attend:* District Directors* Assistant District Directors* Chief Deans (May or May Not be Area Director)* Chapter Presidents* Chapter Deans* Chapter Treasurers (College Chapters Only)* Alpha Advisors \nThe Eastern Region Leadership Summit will gather Brothers appointed to serve within the leadership structure of the Eastern Region for the purpose of discussing the region’s strategic blueprint and align strategies with actions and goals while discussing challenges and opportunities for improving leadership and organizational performance. \nFRIDAY – September 12\, 2014 \n\nRequired Attendance\n\nDistrict Directors\nAsst District Directors\nChief Deans (IMDP related discussion) / Not Area Directors\n\n\n\nSATURDAY – September 13\, 2014 (8am to 3pm; 45 min lunch around 11:30am) \n\nDistrict Review\nRegional Assessment Discussion\nAlpha Advisor Training\nRequired Attendance\n\nDistrict Directors\nArea Directors\nChief Deans\nChapter Presidents\nChapter Dean of Intake\nChapter Advisors
URL:https://www.alphaeast.com/events/2014-fall-leadership-college-brothers-summit/
LOCATION:Westin Princeton\, 201 Village Blvd\, Princeton\, NJ\, 08540\, United States
CATEGORIES:Alumni,College,College Brothers Summit,Leadership Summit,Leadership Team
ATTACH;FMTTYPE=image/jpeg:https://www.alphaeast.com/wp-content/uploads/2014/06/LCBS_WebBanner.jpg
END:VEVENT
BEGIN:VEVENT
DTSTART;TZID=America/New_York:20130913T090000
DTEND;TZID=America/New_York:20130913T163000
DTSTAMP:20260424T002709
CREATED:20130724T164659Z
LAST-MODIFIED:20160625T153935Z
UID:10000024-1379062800-1379089800@www.alphaeast.com
SUMMARY:2013 Eastern Region Leadership Summit
DESCRIPTION:The Eastern Region Leadership Summit will gather Brothers appointed to serve within the leadership structure of the Eastern Region for the purpose of discussing the region’s strategic blueprint and align strategies with actions and goals while discussing challenges and opportunities for improving leadership and organizational performance. \nLocation:  University of Delaware | John A. Perkins Student Center | 325 Academy St\, Newark DE 19716 \n 
URL:https://www.alphaeast.com/events/2013-erls/
LOCATION:John A. Perkins Student Center (University of DE)\, 325 Academy St\, Newark\, DE\, 19716\, United States
CATEGORIES:Alumni,ERVP,General,Leadership Summit,Leadership Team,Regional Event
ORGANIZER;CN="Dr. D. L. Ryan":MAILTO:ChiefOfStaff@AlphaEast.com
END:VEVENT
BEGIN:VEVENT
DTSTART;VALUE=DATE:20130913
DTEND;VALUE=DATE:20130916
DTSTAMP:20260424T002709
CREATED:20130818T170715Z
LAST-MODIFIED:20160625T153918Z
UID:10000029-1379030400-1379289599@www.alphaeast.com
SUMMARY:2013 College Brothers' Summit
DESCRIPTION:The College Brother Summit will begin with a College and Alumni Brother Mixer on Friday\, September 13th at 7:30pm\, followed by development workshops on Saturday\, September 14th. College chapters should send two chapter representatives to the College Brother Summit. The complete agendas for the Staff Meeting and College Brother Summit are forthcoming.
URL:https://www.alphaeast.com/events/2013cbr/
LOCATION:John A. Perkins Student Center (University of DE)\, 325 Academy St\, Newark\, DE\, 19716\, United States
CATEGORIES:College,College Brothers Summit,ERAVP,Leadership Summit,Regional Event
ORGANIZER;CN="Brandon R. Johnson":MAILTO:AVP@AlphaEast.com
END:VEVENT
END:VCALENDAR