BEGIN:VCALENDAR
VERSION:2.0
PRODID:-//Eastern Region of Alpha Phi Alpha Fraternity - ECPv6.15.16.1//NONSGML v1.0//EN
CALSCALE:GREGORIAN
METHOD:PUBLISH
X-ORIGINAL-URL:https://www.alphaeast.com
X-WR-CALDESC:Events for Eastern Region of Alpha Phi Alpha Fraternity
REFRESH-INTERVAL;VALUE=DURATION:PT1H
X-Robots-Tag:noindex
X-PUBLISHED-TTL:PT1H
BEGIN:VTIMEZONE
TZID:America/New_York
BEGIN:DAYLIGHT
TZOFFSETFROM:-0500
TZOFFSETTO:-0400
TZNAME:EDT
DTSTART:20120311T070000
END:DAYLIGHT
BEGIN:STANDARD
TZOFFSETFROM:-0400
TZOFFSETTO:-0500
TZNAME:EST
DTSTART:20121104T060000
END:STANDARD
BEGIN:DAYLIGHT
TZOFFSETFROM:-0500
TZOFFSETTO:-0400
TZNAME:EDT
DTSTART:20130310T070000
END:DAYLIGHT
BEGIN:STANDARD
TZOFFSETFROM:-0400
TZOFFSETTO:-0500
TZNAME:EST
DTSTART:20131103T060000
END:STANDARD
BEGIN:DAYLIGHT
TZOFFSETFROM:-0500
TZOFFSETTO:-0400
TZNAME:EDT
DTSTART:20140309T070000
END:DAYLIGHT
BEGIN:STANDARD
TZOFFSETFROM:-0400
TZOFFSETTO:-0500
TZNAME:EST
DTSTART:20141102T060000
END:STANDARD
BEGIN:DAYLIGHT
TZOFFSETFROM:-0500
TZOFFSETTO:-0400
TZNAME:EDT
DTSTART:20150308T070000
END:DAYLIGHT
BEGIN:STANDARD
TZOFFSETFROM:-0400
TZOFFSETTO:-0500
TZNAME:EST
DTSTART:20151101T060000
END:STANDARD
BEGIN:DAYLIGHT
TZOFFSETFROM:-0500
TZOFFSETTO:-0400
TZNAME:EDT
DTSTART:20160313T070000
END:DAYLIGHT
BEGIN:STANDARD
TZOFFSETFROM:-0400
TZOFFSETTO:-0500
TZNAME:EST
DTSTART:20161106T060000
END:STANDARD
BEGIN:DAYLIGHT
TZOFFSETFROM:-0500
TZOFFSETTO:-0400
TZNAME:EDT
DTSTART:20170312T070000
END:DAYLIGHT
BEGIN:STANDARD
TZOFFSETFROM:-0400
TZOFFSETTO:-0500
TZNAME:EST
DTSTART:20171105T060000
END:STANDARD
BEGIN:DAYLIGHT
TZOFFSETFROM:-0500
TZOFFSETTO:-0400
TZNAME:EDT
DTSTART:20180311T070000
END:DAYLIGHT
BEGIN:STANDARD
TZOFFSETFROM:-0400
TZOFFSETTO:-0500
TZNAME:EST
DTSTART:20181104T060000
END:STANDARD
BEGIN:DAYLIGHT
TZOFFSETFROM:-0500
TZOFFSETTO:-0400
TZNAME:EDT
DTSTART:20190310T070000
END:DAYLIGHT
BEGIN:STANDARD
TZOFFSETFROM:-0400
TZOFFSETTO:-0500
TZNAME:EST
DTSTART:20191103T060000
END:STANDARD
BEGIN:DAYLIGHT
TZOFFSETFROM:-0500
TZOFFSETTO:-0400
TZNAME:EDT
DTSTART:20200308T070000
END:DAYLIGHT
BEGIN:STANDARD
TZOFFSETFROM:-0400
TZOFFSETTO:-0500
TZNAME:EST
DTSTART:20201101T060000
END:STANDARD
BEGIN:DAYLIGHT
TZOFFSETFROM:-0500
TZOFFSETTO:-0400
TZNAME:EDT
DTSTART:20210314T070000
END:DAYLIGHT
BEGIN:STANDARD
TZOFFSETFROM:-0400
TZOFFSETTO:-0500
TZNAME:EST
DTSTART:20211107T060000
END:STANDARD
BEGIN:DAYLIGHT
TZOFFSETFROM:-0500
TZOFFSETTO:-0400
TZNAME:EDT
DTSTART:20220313T070000
END:DAYLIGHT
BEGIN:STANDARD
TZOFFSETFROM:-0400
TZOFFSETTO:-0500
TZNAME:EST
DTSTART:20221106T060000
END:STANDARD
BEGIN:DAYLIGHT
TZOFFSETFROM:-0500
TZOFFSETTO:-0400
TZNAME:EDT
DTSTART:20230312T070000
END:DAYLIGHT
BEGIN:STANDARD
TZOFFSETFROM:-0400
TZOFFSETTO:-0500
TZNAME:EST
DTSTART:20231105T060000
END:STANDARD
BEGIN:DAYLIGHT
TZOFFSETFROM:-0500
TZOFFSETTO:-0400
TZNAME:EDT
DTSTART:20240310T070000
END:DAYLIGHT
BEGIN:STANDARD
TZOFFSETFROM:-0400
TZOFFSETTO:-0500
TZNAME:EST
DTSTART:20241103T060000
END:STANDARD
BEGIN:DAYLIGHT
TZOFFSETFROM:-0500
TZOFFSETTO:-0400
TZNAME:EDT
DTSTART:20250309T070000
END:DAYLIGHT
BEGIN:STANDARD
TZOFFSETFROM:-0400
TZOFFSETTO:-0500
TZNAME:EST
DTSTART:20251102T060000
END:STANDARD
BEGIN:DAYLIGHT
TZOFFSETFROM:-0500
TZOFFSETTO:-0400
TZNAME:EDT
DTSTART:20260308T070000
END:DAYLIGHT
BEGIN:STANDARD
TZOFFSETFROM:-0400
TZOFFSETTO:-0500
TZNAME:EST
DTSTART:20261101T060000
END:STANDARD
BEGIN:DAYLIGHT
TZOFFSETFROM:-0500
TZOFFSETTO:-0400
TZNAME:EDT
DTSTART:20270314T070000
END:DAYLIGHT
BEGIN:STANDARD
TZOFFSETFROM:-0400
TZOFFSETTO:-0500
TZNAME:EST
DTSTART:20271107T060000
END:STANDARD
END:VTIMEZONE
BEGIN:VEVENT
DTSTART;TZID=America/New_York:20260415T080000
DTEND;TZID=America/New_York:20260419T140000
DTSTAMP:20260423T180530
CREATED:20251110T170006Z
LAST-MODIFIED:20251123T152515Z
UID:10000245-1776240000-1776607200@www.alphaeast.com
SUMMARY:94th Annual Eastern Regional Convention
DESCRIPTION:Brothers of Alpha East\, \nIt is with great excitement\, pride\, and anticipation that we extend to you this official call to join us for the 94th Eastern Regional Convention of Alpha Phi Alpha Fraternity\, Inc.\, to be held April 15–19\, 2026\, in the vibrant city of Atlantic City\, New Jersey\, at the world-class Tropicana Hotel & Casino.This year\, we gather under the powerful theme: “Fraternity Forward: The Era of Value\, Impact\, and Progress”. \nThis convention will be more than a meeting\, it will be a movement. As Brothers of Alpha Phi Alpha\, we stand at a pivotal moment in our history and in society. Now more than ever\, our world needs Alpha men\, men of distinction\, purpose\, and unwavering commitment to service. Together\, we will focus on moving our Brotherhood Forward\, strengthening ourselves so that we may better serve our Fraternity\, our Families\, our Communities\, and Ourselves. \nFrom powerful plenary sessions and transformative leadership workshops to unforgettable social events and brotherhood experiences\, our planning committee is crafting a convention that promises to deliver a true V.I.P. experience for you and your guests. Atlantic City will provide the perfect backdrop for fellowship\, learning\, and celebration as we honor our legacy and prepare for the future. \nBrothers\, this is our time. Let us come together in brotherhood\, purpose\, and innovation to ensure that Alpha Phi Alpha continues to lead with Value\, Impact\, and Progress for generations to come. \nWe look forward to welcoming you to Atlantic City this April. Mark your calendars\, prepare your chapters\, and get ready for an unforgettable 94th Eastern Regional Convention!
URL:https://www.alphaeast.com/events/94th-annual-eastern-regional-convention/
LOCATION:Tropicana Hotel & Casino\, 2831 Boardwalk\, Atlantic City\, NJ\, 08401\, United States
CATEGORIES:Alumni,College,ERAVP,ERVP,LDI,Regional Event
ATTACH;FMTTYPE=image/jpeg:https://www.alphaeast.com/wp-content/uploads/2025/11/Frat-Foward-White--scaled.jpg
END:VEVENT
BEGIN:VEVENT
DTSTART;TZID=America/New_York:20250716T080000
DTEND;TZID=America/New_York:20250720T170000
DTSTAMP:20260423T180530
CREATED:20250403T012122Z
LAST-MODIFIED:20250719T201624Z
UID:10000081-1752652800-1753030800@www.alphaeast.com
SUMMARY:98th General Convention / 119th Anniversary Convention
DESCRIPTION:CALL TO CONVENTION\n\n\n\n\n\n\n\n\n\n\n\n\n\n\n\n\n\n\n\n\n\nDear Brothers\, \nIn accordance with Article V\, Section 1.2 of the Constitution of Alpha Phi Alpha Fraternity\, Inc.\, I do hereby issue the “Official Call” for the ‘Men of Distinction’ of Alpha Phi Alpha Fraternity\, Inc. to convene for the 98th General Convention and 119th Anniversary Convention\, July 16-20\, 2025\, at the Philadelphia Convention Center in Philadelphia\, Pennsylvania. \nThe theme of our convention is “Reimagining Alpha for the Future\,” which ushers in a new era for Alpha. In prior administrations\, Alpha Phi Alpha Fraternity\, Inc. has dedicated itself to much needed critical evaluation\, internal development\, and the strengthening of our foundation and Brotherhood.  \nAs a result\, we are now poised and prepared to be fearless in encouraging new\, bold\, and creative ideas embracing best practices that inform\, engage\, and mobilize our Brotherhood for our noble work along with technology that ensure our sustainability and competitiveness for the future.  \nFor this convention\, we will utilize our new Sphinx Hub Mobile App\, which now replaces Guidebook for maintaining the event schedule and updates as well as eliminates MailChimp for any newsletters and messaging. It also encapsulates Alpha MX\, Alpha University\, the former\, Alpha Elite. \nWe will focus on a specific group of Brothers with the purpose of raising their ALPHAIQ!  We have planned a more streamlined\, poignant\, and intentional experience for our General Business Sessions thanks to Official Pre-Convention Meetings and Workshops eliminating much of the time-consuming\, but necessary background\, discussion\, and mandated completion. \nWithin our leadership\, we welcome new General Board members and elect our next General Treasurer as well as celebrate those rolling off our General Board. \nThe 98th General Convention and 119th Anniversary Convention\, as always\, is not only about the work of Alpha\, but is also a celebration and a time for connection. Our convention and the city of Brotherly Love\, in general\, aims to offer a variety of Brotherhood and social experiences that hope to entertain as well as strengthen our bond while positively showcasing our presence and brand to the public. \nI look forward to joining you at our 98th General Convention and 119th Anniversary Convention\, where we can Shake Hands\, Exchange Greetings\, and Depart Friends. \nAlways Fraternal\, \n\n\n\n\n\n\n\n\n\n\n\n\n\n\n\n\n\n\n\n\n\n\n\nGeneral President \n  \n\n\n\n\n\n\n\n\n\n\n\n\n\nWELCOME TO PHILLY!\n\n\n\n\n\n\n\n\n\n\n\n\nPhiladelphia is where America began. It’s where the Founding Fathers made history. It’s America’s first UNESCO World Heritage City. It’s about diversity and innovation\, pretzels and cheesesteaks\, Betsy Ross and Ben Franklin. \nBut Philly? Philly is the murals and street art that decorate each neighborhood. Philly is a food scene that’s not just award-winning — it’s game-changing. Philly is where “Go Birds” is a greeting\, and love is a way of life. \nPhiladelphia wrote America’s story. Philly is where you’ll write yours. \n\n\n\n\n\n\n\n\n\nVENUE\n\n\n\n\n\n\n\n\n\n\nPennsylvania Convention Center\n1101 Arch St\, Philadelphia\, PA 19107 \n\n\n\n\n\n\n\n\n\n\n\n\n\nThe Convention Center is among the nation’s premier meeting and convention facilities with advanced technology\, a remarkable Pennsylvania-based art collection and unmatched views of Philadelphia’s famous City Hall. Attendees will appreciate direct access to transportation options\, including bus\, subway\, regional rail\, and taxis. With more than 14\,000 hotel rooms within walking distance and world-class restaurants\, shops and cultural attractions across Center City\, Philadelphia offers a memorable visit. The Convention Center’s convenient location in the heart of downtown Philadelphia also makes it easier to explore the city’s neighborhoods. \n\n\n\n\n\n\n\n\n\n\n\n\nAGENDA AT A GLANCE\n\n \n \n \n 
URL:https://www.alphaeast.com/events/98th-general-convention-119th-anniversary-convention/
LOCATION:Philadelphia Convention Center\, 1101 Arch Street\, Philadelphia\, PA\, 19107\, United States
CATEGORIES:Alumni,Board of Directors,Chapter Event,College,District Event,General,LDI,Leadership Team
ATTACH;FMTTYPE=image/jpeg:https://www.alphaeast.com/wp-content/uploads/2025/04/2025-General-Convention-Logo.jpg
END:VEVENT
BEGIN:VEVENT
DTSTART;VALUE=DATE:20170329
DTEND;VALUE=DATE:20170403
DTSTAMP:20260423T180530
CREATED:20160625T152009Z
LAST-MODIFIED:20170117T054356Z
UID:10000077-1490745600-1491177599@www.alphaeast.com
SUMMARY:85th Anniversary Eastern Region Convention
DESCRIPTION:Registration Rates (same as 2015)\nRegistration – Oct 1 – Dec 31\, 2016\nAlumni    $ 350\nCollege    $ 250\nLadies    $ 225\nAlumni Neophytes  $ 300\nCollege Neophytes  $ 200 \nLate Registration – Jan 1 – Mar 1\, 2017\nAlumni    $ 400\nCollege    $ 300\nLadies    $ 225\nAlumni Neophytes  $ 300\nCollege Neophytes  $ 200
URL:https://www.alphaeast.com/events/85th-anniversary-eastern-region-convention/
LOCATION:Hilton Alexandria Mark Center\, 5000 Seminary Rd\, Alexandria\, VA\, 22311\, United States
CATEGORIES:Alumni,College,ERAVP,ERVP,LDI,Regional Event
ATTACH;FMTTYPE=image/png:https://www.alphaeast.com/wp-content/uploads/2016/06/2017_Eastern_Region_Convention.png
END:VEVENT
BEGIN:VEVENT
DTSTART;VALUE=DATE:20130725
DTEND;VALUE=DATE:20130729
DTSTAMP:20260423T180530
CREATED:20130703T220558Z
LAST-MODIFIED:20130703T220724Z
UID:10000023-1374710400-1375055999@www.alphaeast.com
SUMMARY:Leadership Development Institute (LDI - North)
DESCRIPTION:The Leadership Development Institute (LDI) was chartered in the Eastern Region of the fraternity in 1983. Geographically\, the Eastern Region includes the eastern seaborne; from Maine to Virginia\,as well as chapters in Bermuda\, Germany\, South Africa\, and Liberia.  This year\, in partnership with the E TL Education Foundation \, LDI will be held three times\, once in the spring at the site of the Alpha Phi Alpha Fraternity  Eastern Region Convention\, and again during the summer in the Washington DC/Baltimore area\, and in New York City.  Additionally\, LDI programming is held throughout all regions of the fraternity and thus has a national impact.  Over the years the program has served thousands of young men by providing interactive leadership workshops\, cultural and recreational activities\, real leadership opportunities\, education enhancements\, and college awareness. \n\nLDI North will be held at Long Island University\, July 25 – 28\, 2013\, contact Steven Skinner (ProfessorSteve [at] prodigy.net)
URL:https://www.alphaeast.com/events/leadership-development-institute-2/
LOCATION:Long Island University\, 720 Northern Blvd\, Brookville\, NY\, 11548\, United States
CATEGORIES:General,LDI
ATTACH;FMTTYPE=image/png:https://www.alphaeast.com/wp-content/uploads/2013/07/logo_LDI.png
END:VEVENT
BEGIN:VEVENT
DTSTART;VALUE=DATE:20130711
DTEND;VALUE=DATE:20130715
DTSTAMP:20260423T180530
CREATED:20130703T220246Z
LAST-MODIFIED:20130703T220838Z
UID:10000022-1373500800-1373846399@www.alphaeast.com
SUMMARY:Leadership Development Institute (LDI - South)
DESCRIPTION:The Leadership Development Institute (LDI) was chartered in the Eastern Region of the fraternity in 1983. Geographically\, the Eastern Region includes the eastern seaborne; from Maine to Virginia\,as well as chapters in Bermuda\, Germany\, South Africa\, and Liberia.  This year\, in partnership with the E TL Education Foundation \, LDI will be held three times\, once in the spring at the site of the Alpha Phi Alpha Fraternity  Eastern Region Convention\, and again during the summer in the Washington DC/Baltimore area\, and in New York City.  Additionally\, LDI programming is held throughout all regions of the fraternity and thus has a national impact.  Over the years the program has served thousands of young men by providing interactive leadership workshops\, cultural and recreational activities\, real leadership opportunities\, education enhancements\, and college awareness. \n\nLDI South will be held at Morgan State University\, July 11 – 14\, 2013\, contact James E. Thomas\, Jr (JET1906 [at] yahoo.com)
URL:https://www.alphaeast.com/events/leadership-development-institute/
LOCATION:Morgan State University\, Coldspring Lane & Hillen Rd\, Baltimore\, MD\, 21251\, United States
CATEGORIES:General,LDI
ATTACH;FMTTYPE=image/png:https://www.alphaeast.com/wp-content/uploads/2013/07/logo_LDI.png
END:VEVENT
END:VCALENDAR