BEGIN:VCALENDAR
VERSION:2.0
PRODID:-//Eastern Region of Alpha Phi Alpha Fraternity - ECPv6.15.16.1//NONSGML v1.0//EN
CALSCALE:GREGORIAN
METHOD:PUBLISH
X-ORIGINAL-URL:https://www.alphaeast.com
X-WR-CALDESC:Events for Eastern Region of Alpha Phi Alpha Fraternity
REFRESH-INTERVAL;VALUE=DURATION:PT1H
X-Robots-Tag:noindex
X-PUBLISHED-TTL:PT1H
BEGIN:VTIMEZONE
TZID:America/New_York
BEGIN:DAYLIGHT
TZOFFSETFROM:-0500
TZOFFSETTO:-0400
TZNAME:EDT
DTSTART:20120311T070000
END:DAYLIGHT
BEGIN:STANDARD
TZOFFSETFROM:-0400
TZOFFSETTO:-0500
TZNAME:EST
DTSTART:20121104T060000
END:STANDARD
BEGIN:DAYLIGHT
TZOFFSETFROM:-0500
TZOFFSETTO:-0400
TZNAME:EDT
DTSTART:20130310T070000
END:DAYLIGHT
BEGIN:STANDARD
TZOFFSETFROM:-0400
TZOFFSETTO:-0500
TZNAME:EST
DTSTART:20131103T060000
END:STANDARD
BEGIN:DAYLIGHT
TZOFFSETFROM:-0500
TZOFFSETTO:-0400
TZNAME:EDT
DTSTART:20140309T070000
END:DAYLIGHT
BEGIN:STANDARD
TZOFFSETFROM:-0400
TZOFFSETTO:-0500
TZNAME:EST
DTSTART:20141102T060000
END:STANDARD
BEGIN:DAYLIGHT
TZOFFSETFROM:-0500
TZOFFSETTO:-0400
TZNAME:EDT
DTSTART:20150308T070000
END:DAYLIGHT
BEGIN:STANDARD
TZOFFSETFROM:-0400
TZOFFSETTO:-0500
TZNAME:EST
DTSTART:20151101T060000
END:STANDARD
BEGIN:DAYLIGHT
TZOFFSETFROM:-0500
TZOFFSETTO:-0400
TZNAME:EDT
DTSTART:20160313T070000
END:DAYLIGHT
BEGIN:STANDARD
TZOFFSETFROM:-0400
TZOFFSETTO:-0500
TZNAME:EST
DTSTART:20161106T060000
END:STANDARD
BEGIN:DAYLIGHT
TZOFFSETFROM:-0500
TZOFFSETTO:-0400
TZNAME:EDT
DTSTART:20170312T070000
END:DAYLIGHT
BEGIN:STANDARD
TZOFFSETFROM:-0400
TZOFFSETTO:-0500
TZNAME:EST
DTSTART:20171105T060000
END:STANDARD
BEGIN:DAYLIGHT
TZOFFSETFROM:-0500
TZOFFSETTO:-0400
TZNAME:EDT
DTSTART:20180311T070000
END:DAYLIGHT
BEGIN:STANDARD
TZOFFSETFROM:-0400
TZOFFSETTO:-0500
TZNAME:EST
DTSTART:20181104T060000
END:STANDARD
END:VTIMEZONE
BEGIN:VEVENT
DTSTART;VALUE=DATE:20170712
DTEND;VALUE=DATE:20170717
DTSTAMP:20260423T193458
CREATED:20160625T153421Z
LAST-MODIFIED:20160625T153421Z
UID:10000079-1499817600-1500249599@www.alphaeast.com
SUMMARY:111th Anniversary Convention / 94th General Convention
DESCRIPTION:FINE PRINT \nBY ATTENDING THIS EVENT\, YOU GIVE ALPHA PHI ALPHA FRATERNITY\, INC. PERMISSION TO INTERVIEW YOU AND/OR TO USE YOUR LIKENESS IN PHOTOGRAPH(S)/VIDEO IN ANY AND ALL OF ITS PUBLICATIONS AND IN ANY AND ALL OTHER MEDIA\, WHETHER NOW KNOWN OR HEREAFTER EXISTING\, CONTROLLED BY ALPHA PHI ALPHA FRATERNITY\, INC.\, IN PERPETUITY\, AND FOR OTHER USE BY THE FRATERNITY. YOU WILL MAKE NO MONETARY OR OTHER CLAIM AGAINST ALPHA PHI ALPHA FRATERNITY\, INC. FOR THE USE OF ANY INTERVIEW AND/OR THE PHOTOGRAPH(S)/VIDEO.
URL:https://www.alphaeast.com/events/111th-anniversary-convention-94th-general-convention/
LOCATION:Hilton Baltimore\, 401 W Pratt St\, Baltimore\, MD\, 21201\, United States
CATEGORIES:Alumni,Board of Directors,College,ERAVP,ERVP,General
END:VEVENT
BEGIN:VEVENT
DTSTART;VALUE=DATE:20170329
DTEND;VALUE=DATE:20170403
DTSTAMP:20260423T193458
CREATED:20160625T152009Z
LAST-MODIFIED:20170117T054356Z
UID:10000077-1490745600-1491177599@www.alphaeast.com
SUMMARY:85th Anniversary Eastern Region Convention
DESCRIPTION:Registration Rates (same as 2015)\nRegistration – Oct 1 – Dec 31\, 2016\nAlumni    $ 350\nCollege    $ 250\nLadies    $ 225\nAlumni Neophytes  $ 300\nCollege Neophytes  $ 200 \nLate Registration – Jan 1 – Mar 1\, 2017\nAlumni    $ 400\nCollege    $ 300\nLadies    $ 225\nAlumni Neophytes  $ 300\nCollege Neophytes  $ 200
URL:https://www.alphaeast.com/events/85th-anniversary-eastern-region-convention/
LOCATION:Hilton Alexandria Mark Center\, 5000 Seminary Rd\, Alexandria\, VA\, 22311\, United States
CATEGORIES:Alumni,College,ERAVP,ERVP,LDI,Regional Event
ATTACH;FMTTYPE=image/png:https://www.alphaeast.com/wp-content/uploads/2016/06/2017_Eastern_Region_Convention.png
END:VEVENT
BEGIN:VEVENT
DTSTART;VALUE=DATE:20170323
DTEND;VALUE=DATE:20170327
DTSTAMP:20260423T193458
CREATED:20160625T152439Z
LAST-MODIFIED:20160625T152439Z
UID:10000078-1490227200-1490572799@www.alphaeast.com
SUMMARY:2017 Southern Region Convention
DESCRIPTION:
URL:https://www.alphaeast.com/events/2017-southern-region-convention/
LOCATION:Raleigh\, NC\, United States
CATEGORIES:Board of Directors,ERAVP,ERVP,Regional Event
END:VEVENT
BEGIN:VEVENT
DTSTART;VALUE=DATE:20160930
DTEND;VALUE=DATE:20161002
DTSTAMP:20260423T193458
CREATED:20160625T150724Z
LAST-MODIFIED:20160625T153801Z
UID:10000076-1475193600-1475366399@www.alphaeast.com
SUMMARY:2016 Leadership & College Brothers' Summit
DESCRIPTION:Location for the 2016 Leadership & College Brothers’ Summit is TBD
URL:https://www.alphaeast.com/events/2016-leadership-college-brothers-summit/
LOCATION:TBD
CATEGORIES:Alumni,Chapter Event,College,College Brothers Summit,ERAVP,ERVP,Leadership Summit,Regional Event
ORGANIZER;CN="Dr. D. L. Ryan":MAILTO:ChiefOfStaff@AlphaEast.com
END:VEVENT
BEGIN:VEVENT
DTSTART;TZID=America/New_York:20160721T080000
DTEND;TZID=America/New_York:20160724T170000
DTSTAMP:20260423T193458
CREATED:20160705T084829Z
LAST-MODIFIED:20160705T084829Z
UID:10000080-1469088000-1469379600@www.alphaeast.com
SUMMARY:Alpha Phi Alpha Fraternity - Board Meeting
DESCRIPTION:
URL:https://www.alphaeast.com/events/alpha-phi-alpha-fraternity-board-meeting/
LOCATION:TBD
CATEGORIES:Board of Directors,ERAVP,ERVP,General
END:VEVENT
BEGIN:VEVENT
DTSTART;TZID=America/New_York:20160625T090000
DTEND;TZID=America/New_York:20160625T100000
DTSTAMP:20260423T193458
CREATED:20160625T150256Z
LAST-MODIFIED:20160625T150443Z
UID:10000075-1466845200-1466848800@www.alphaeast.com
SUMMARY:Quarterly President's Round Table Call
DESCRIPTION:
URL:https://www.alphaeast.com/events/quarterly-presidents-round-table-call/
LOCATION:Conference Call\, United States
CATEGORIES:ERAVP,ERVP,Regional Event
ORGANIZER;CN="Dr. D. L. Ryan":MAILTO:ChiefOfStaff@AlphaEast.com
END:VEVENT
BEGIN:VEVENT
DTSTART;VALUE=DATE:20160330
DTEND;VALUE=DATE:20160404
DTSTAMP:20260423T193458
CREATED:20150925T223330Z
LAST-MODIFIED:20151103T224117Z
UID:10000073-1459296000-1459727999@www.alphaeast.com
SUMMARY:84th Annual Eastern Region Convention
DESCRIPTION:
URL:https://www.alphaeast.com/events/84th-annual-eastern-region-convention/
LOCATION:Wyndham Grand Pittsburgh Downtown\, 600 Commonwealth Pl\, Pittsburgh\, PA\, 15222\, United States
CATEGORIES:Alumni,College,ERAVP,ERVP,Regional Event
END:VEVENT
BEGIN:VEVENT
DTSTART;VALUE=DATE:20150805
DTEND;VALUE=DATE:20150810
DTSTAMP:20260423T193458
CREATED:20150106T053001Z
LAST-MODIFIED:20150106T053614Z
UID:10000010-1438732800-1439164799@www.alphaeast.com
SUMMARY:93rd General Convention
DESCRIPTION:
URL:https://www.alphaeast.com/events/93rd-general-convention/
LOCATION:Charlotte Convention Center\, 501 S College St\, Charlotte\, NC\, 282002\, United States
CATEGORIES:Alumni,College,ERAVP,ERVP,General
END:VEVENT
BEGIN:VEVENT
DTSTART;VALUE=DATE:20150423
DTEND;VALUE=DATE:20150427
DTSTAMP:20260423T193458
CREATED:20150106T052811Z
LAST-MODIFIED:20150106T053633Z
UID:10000009-1429747200-1430092799@www.alphaeast.com
SUMMARY:83rd Midwestern Regional Convention
DESCRIPTION:
URL:https://www.alphaeast.com/events/83rd-midwestern-regional-convention/
LOCATION:Crowne Plaza Springfield\, 3000 S. Dirksen Pkwy\, Springfield\, IL\, 62703\, United States
CATEGORIES:ERAVP,ERVP
END:VEVENT
BEGIN:VEVENT
DTSTART;VALUE=DATE:20150409
DTEND;VALUE=DATE:20150413
DTSTAMP:20260423T193458
CREATED:20150106T052522Z
LAST-MODIFIED:20150106T053648Z
UID:10000008-1428537600-1428883199@www.alphaeast.com
SUMMARY:69th Southwestern Region Convention
DESCRIPTION:
URL:https://www.alphaeast.com/events/69th-southwestern-region-convention/
LOCATION:Intercontinental Dallas\, 15201 Dallas Pkwy\, Dallas\, TX\, 75001\, United States
CATEGORIES:ERAVP,ERVP
END:VEVENT
BEGIN:VEVENT
DTSTART;VALUE=DATE:20150326
DTEND;VALUE=DATE:20150330
DTSTAMP:20260423T193458
CREATED:20150106T053433Z
LAST-MODIFIED:20150106T053622Z
UID:10000071-1427328000-1427673599@www.alphaeast.com
SUMMARY:83rd Eastern Region Convention
DESCRIPTION:
URL:https://www.alphaeast.com/events/83rd-eastern-region-convention/
LOCATION:Newark Liberty International Airport Marriott\, 1 Hotel Rd\, Newark\, NJ\, 07114\, United States
CATEGORIES:Alumni,College,ERAVP,ERVP
END:VEVENT
BEGIN:VEVENT
DTSTART;VALUE=DATE:20150326
DTEND;VALUE=DATE:20150330
DTSTAMP:20260423T193458
CREATED:20150106T052109Z
LAST-MODIFIED:20150106T053713Z
UID:10000007-1427328000-1427673599@www.alphaeast.com
SUMMARY:67th Western Region Convention
DESCRIPTION:
URL:https://www.alphaeast.com/events/67th-western-region-convention/
LOCATION:Renaissance Long Beach Hotel\, 111 E. Ocean Blvd\, Long Beach\, CA\, 90802\, United States
CATEGORIES:ERAVP,ERVP
END:VEVENT
BEGIN:VEVENT
DTSTART;VALUE=DATE:20150319
DTEND;VALUE=DATE:20150323
DTSTAMP:20260423T193458
CREATED:20150106T051436Z
LAST-MODIFIED:20150106T053731Z
UID:10000006-1426723200-1427068799@www.alphaeast.com
SUMMARY:84th Southern Region Convention
DESCRIPTION:
URL:https://www.alphaeast.com/events/84th-southern-region-convention/
LOCATION:TBD
CATEGORIES:ERAVP,ERVP
END:VEVENT
BEGIN:VEVENT
DTSTART;VALUE=DATE:20150306
DTEND;VALUE=DATE:20150308
DTSTAMP:20260423T193458
CREATED:20140825T043306Z
LAST-MODIFIED:20140825T043306Z
UID:10000052-1425600000-1425772799@www.alphaeast.com
SUMMARY:MAAC District Conference
DESCRIPTION:
URL:https://www.alphaeast.com/events/maac-district-conference/
LOCATION:Bowie State University\, Bowie\, MD\, United States
CATEGORIES:District Event,ERAVP,ERVP
END:VEVENT
BEGIN:VEVENT
DTSTART;VALUE=DATE:20150205
DTEND;VALUE=DATE:20150209
DTSTAMP:20260423T193458
CREATED:20140825T043149Z
LAST-MODIFIED:20140825T043415Z
UID:10000051-1423094400-1423439999@www.alphaeast.com
SUMMARY:72nd VACAPAF Convention
DESCRIPTION:
URL:https://www.alphaeast.com/events/72nd-vacapaf-convention/
LOCATION:Philadelphia Convention Center\, 1101 Arch Street\, Philadelphia\, PA\, 19107\, United States
CATEGORIES:District Event,ERAVP,ERVP
END:VEVENT
BEGIN:VEVENT
DTSTART;VALUE=DATE:20150109
DTEND;VALUE=DATE:20150112
DTSTAMP:20260423T193458
CREATED:20150106T050634Z
LAST-MODIFIED:20150106T050717Z
UID:10000005-1420761600-1421020799@www.alphaeast.com
SUMMARY:Alpha Phi Alpha Board Meeting
DESCRIPTION:
URL:https://www.alphaeast.com/events/alpha-phi-alpha-board-meeting/
LOCATION:Hilton Charlotte City Center\, 222 East 3rd St\, Charlotte\, NC\, 282002\, United States
CATEGORIES:Board of Directors,ERAVP,ERVP
END:VEVENT
BEGIN:VEVENT
DTSTART;VALUE=DATE:20141121
DTEND;VALUE=DATE:20141122
DTSTAMP:20260423T193458
CREATED:20140825T043742Z
LAST-MODIFIED:20140825T043742Z
UID:10000055-1416528000-1416614399@www.alphaeast.com
SUMMARY:ONECA District Conference
DESCRIPTION:
URL:https://www.alphaeast.com/events/oneca-district-conference-2/
LOCATION:NY
CATEGORIES:District Event,ERAVP,ERVP
END:VEVENT
BEGIN:VEVENT
DTSTART;VALUE=DATE:20141116
DTEND;VALUE=DATE:20141117
DTSTAMP:20260423T193458
CREATED:20140825T043840Z
LAST-MODIFIED:20140825T043840Z
UID:10000056-1416096000-1416182399@www.alphaeast.com
SUMMARY:IAAC District Retreat
DESCRIPTION:
URL:https://www.alphaeast.com/events/iaac-district-retreat/
LOCATION:NY
CATEGORIES:District Event,ERAVP,ERVP
END:VEVENT
BEGIN:VEVENT
DTSTART;VALUE=DATE:20141115
DTEND;VALUE=DATE:20141116
DTSTAMP:20260423T193458
CREATED:20140825T043654Z
LAST-MODIFIED:20140829T125408Z
UID:10000054-1416009600-1416095999@www.alphaeast.com
SUMMARY:NJAAPAC District Conference
DESCRIPTION:
URL:https://www.alphaeast.com/events/njaapac-district-conference/
LOCATION:Mercer County Community College\, 1200 Old Trenton Rd\, West Windsor Township\, NJ\, 08550\, United States
CATEGORIES:District Event,ERAVP,ERVP
END:VEVENT
BEGIN:VEVENT
DTSTART;VALUE=DATE:20141107
DTEND;VALUE=DATE:20141110
DTSTAMP:20260423T193458
CREATED:20140825T043554Z
LAST-MODIFIED:20140825T043554Z
UID:10000053-1415318400-1415577599@www.alphaeast.com
SUMMARY:PAAC District Conference
DESCRIPTION:
URL:https://www.alphaeast.com/events/paac-district-conference/
LOCATION:NY
CATEGORIES:District Event,ERAVP,ERVP
END:VEVENT
BEGIN:VEVENT
DTSTART;TZID=America/New_York:20140906T090000
DTEND;TZID=America/New_York:20140906T120000
DTSTAMP:20260423T193458
CREATED:20140825T042408Z
LAST-MODIFIED:20140825T042408Z
UID:10000050-1409994000-1410004800@www.alphaeast.com
SUMMARY:Kappa Epsilon Lambda Installation Awards Breakfast
DESCRIPTION:
URL:https://www.alphaeast.com/events/kappa-epsilon-lambda-installation-awards-breakfast/
LOCATION:The Club at Andrews\, 1889 Arnold Ave\, Joint Base Andrews\, MD\, 20762\, United States
CATEGORIES:Chapter Event,ERAVP,ERVP
END:VEVENT
BEGIN:VEVENT
DTSTART;VALUE=DATE:20140822
DTEND;VALUE=DATE:20140825
DTSTAMP:20260423T193458
CREATED:20140825T042005Z
LAST-MODIFIED:20140825T042005Z
UID:10000049-1408665600-1408924799@www.alphaeast.com
SUMMARY:Board of Directors Meeting
DESCRIPTION:
URL:https://www.alphaeast.com/events/board-directors-meeting/
LOCATION:Hilton Omaha\, 1001 Cass St \, Omaha\, NE\, 68102\, United States
CATEGORIES:Board of Directors,ERAVP,ERVP
END:VEVENT
BEGIN:VEVENT
DTSTART;VALUE=DATE:20140423
DTEND;VALUE=DATE:20140428
DTSTAMP:20260423T193458
CREATED:20131227T024132Z
LAST-MODIFIED:20131227T024132Z
UID:10000041-1398211200-1398643199@www.alphaeast.com
SUMMARY:82nd Annual Eastern Region Convention
DESCRIPTION:Brothers of AlphaEast\, \nIn accordance with Article III\, §2.3 of the Alpha Phi Alpha Fraternity – Constitution\, the leadership of the Eastern Region is pleased to present this official Convention Call (http://convention.alphaeast.com/convention-call) for the 82nd Annual Eastern Region Convention of Alpha Phi Alpha Fraternity\, to be held April 24 – April 27\, 2014 in Baltimore\, Maryland. \nThere are countless activities occurring during this generation which implore action\, intervention and leadership from the men of the old gold and black. Our focus during this gathering will be “Reconciling Leadership & Brotherhood” and how the principles of these two tenets will be of assistance as we propel our organization forward. Specifically\, we will focus on providing experience and bonding to develop leaders\, empowering and energizing to promote Brotherhood\, training and mentoring to promote academic excellence and organizing and networking to provide service and advocacy to our communities. \nIt is apropos for this congregation of Eastern Region Brotherhood to be held in the “City of Neighborhoods” with the Hilton Baltimore serving as our host hotel. Socially\, one will be pleased with the variety of options available for shopping\, site-seeing or pleasure seeking\, as we’ll be a stone’s throw from the Camden Yards sports complex (Oriole Park at Camden Yards and M&T Bank Stadium)\, and walking distance from Harborplace (a.k.a.\, the Inner Harbor)\, the Baltimore Convention Center\, Maryland Science Center\, National Aquarium in Baltimore\, and the Power Plant\, along with numerous nightclubs\, bars & restaurants\, shopping centers and various other attractions. \nTherefore\, we encourage you to make plans and register now! http://registration.AlphaEast.com \nFor more information visit: http://convention.AlphaEast.com
URL:https://www.alphaeast.com/events/2014erc/
LOCATION:Hilton Baltimore\, 401 W Pratt St\, Baltimore\, MD\, 21201\, United States
CATEGORIES:Alumni,College,ERAVP,ERVP
END:VEVENT
BEGIN:VEVENT
DTSTART;VALUE=DATE:20140405
DTEND;VALUE=DATE:20140406
DTSTAMP:20260423T193458
CREATED:20131013T003520Z
LAST-MODIFIED:20131227T024301Z
UID:10000038-1396656000-1396742399@www.alphaeast.com
SUMMARY:Mid-Atlantic Association of Alpha Chapters (MAAC) District Conference
DESCRIPTION:
URL:https://www.alphaeast.com/events/mid-atlantic-association-of-alpha-chapters-maac-district-conference/
LOCATION:Frostburg State University\, 101 Braddock Rd\, Frostburg\, MD\, 21532\, United States
CATEGORIES:District Event,ERAVP,ERVP
END:VEVENT
BEGIN:VEVENT
DTSTART;TZID=America/New_York:20140215T180000
DTEND;TZID=America/New_York:20140215T233000
DTSTAMP:20260423T193458
CREATED:20140205T170705Z
LAST-MODIFIED:20140205T170705Z
UID:10000045-1392487200-1392507000@www.alphaeast.com
SUMMARY:Theta Iota Lambda Chapter 50th Anniversary Celebration
DESCRIPTION:
URL:https://www.alphaeast.com/events/theta-iota-lambda-chapter-50th-anniversary-celebration/
LOCATION:The Delaney House\, 3 Country Club Rd\, Holyoke\, MA\, United States
CATEGORIES:Chapter Event,ERAVP,ERVP
END:VEVENT
BEGIN:VEVENT
DTSTART;VALUE=DATE:20140215
DTEND;VALUE=DATE:20140216
DTSTAMP:20260423T193458
CREATED:20140205T170219Z
LAST-MODIFIED:20140205T170219Z
UID:10000043-1392422400-1392508799@www.alphaeast.com
SUMMARY:ONECA District Conference
DESCRIPTION:
URL:https://www.alphaeast.com/events/oneca-district-conference/
LOCATION:University of New Haven\, 300 Boston Post Rd\, West Haven\, CT\, 06516\, United States
CATEGORIES:District Event,ERAVP,ERVP
END:VEVENT
BEGIN:VEVENT
DTSTART;VALUE=DATE:20140206
DTEND;VALUE=DATE:20140210
DTSTAMP:20260423T193458
CREATED:20140205T165849Z
LAST-MODIFIED:20140205T165929Z
UID:10000042-1391644800-1391990399@www.alphaeast.com
SUMMARY:VACAPAF 71st Annual District Convention
DESCRIPTION:
URL:https://www.alphaeast.com/events/vacapaf-71st-annual-district-convention/
LOCATION:Longwood University\, 201 High St\, Farmville\, VA\, United States
CATEGORIES:District Event,ERAVP,ERVP
END:VEVENT
BEGIN:VEVENT
DTSTART;VALUE=DATE:20131109
DTEND;VALUE=DATE:20131110
DTSTAMP:20260423T193458
CREATED:20131024T195559Z
LAST-MODIFIED:20131024T195559Z
UID:10000039-1383955200-1384041599@www.alphaeast.com
SUMMARY:Pennsylvania Association of Alpha Chapters (PAAC) District Conference
DESCRIPTION:
URL:https://www.alphaeast.com/events/pennsylvania-association-of-alpha-chapters-paac-district-conference/
LOCATION:Pennsylvania State University\, State College\, 16803\, United States
CATEGORIES:District Event,ERAVP,ERVP
END:VEVENT
BEGIN:VEVENT
DTSTART;VALUE=DATE:20131012
DTEND;VALUE=DATE:20131013
DTSTAMP:20260423T193458
CREATED:20131012T234014Z
LAST-MODIFIED:20131012T234014Z
UID:10000037-1381536000-1381622399@www.alphaeast.com
SUMMARY:Alpha Phi Alpha Fraternity 107th Founders' Day
DESCRIPTION:
URL:https://www.alphaeast.com/events/alpha-phi-alpha-fraternity-107th-founders-day/
LOCATION:NY
CATEGORIES:Alumni,Board of Directors,Chapter Event,College,District Event,ERAVP,ERVP,General
END:VEVENT
BEGIN:VEVENT
DTSTART;VALUE=DATE:20130913
DTEND;VALUE=DATE:20130916
DTSTAMP:20260423T193458
CREATED:20130818T170715Z
LAST-MODIFIED:20160625T153918Z
UID:10000029-1379030400-1379289599@www.alphaeast.com
SUMMARY:2013 College Brothers' Summit
DESCRIPTION:The College Brother Summit will begin with a College and Alumni Brother Mixer on Friday\, September 13th at 7:30pm\, followed by development workshops on Saturday\, September 14th. College chapters should send two chapter representatives to the College Brother Summit. The complete agendas for the Staff Meeting and College Brother Summit are forthcoming.
URL:https://www.alphaeast.com/events/2013cbr/
LOCATION:John A. Perkins Student Center (University of DE)\, 325 Academy St\, Newark\, DE\, 19716\, United States
CATEGORIES:College,College Brothers Summit,ERAVP,Leadership Summit,Regional Event
ORGANIZER;CN="Brandon R. Johnson":MAILTO:AVP@AlphaEast.com
END:VEVENT
END:VCALENDAR