BEGIN:VCALENDAR
VERSION:2.0
PRODID:-//Eastern Region of Alpha Phi Alpha Fraternity - ECPv6.15.16.1//NONSGML v1.0//EN
CALSCALE:GREGORIAN
METHOD:PUBLISH
X-ORIGINAL-URL:https://www.alphaeast.com
X-WR-CALDESC:Events for Eastern Region of Alpha Phi Alpha Fraternity
REFRESH-INTERVAL;VALUE=DURATION:PT1H
X-Robots-Tag:noindex
X-PUBLISHED-TTL:PT1H
BEGIN:VTIMEZONE
TZID:America/New_York
BEGIN:DAYLIGHT
TZOFFSETFROM:-0500
TZOFFSETTO:-0400
TZNAME:EDT
DTSTART:20120311T070000
END:DAYLIGHT
BEGIN:STANDARD
TZOFFSETFROM:-0400
TZOFFSETTO:-0500
TZNAME:EST
DTSTART:20121104T060000
END:STANDARD
BEGIN:DAYLIGHT
TZOFFSETFROM:-0500
TZOFFSETTO:-0400
TZNAME:EDT
DTSTART:20130310T070000
END:DAYLIGHT
BEGIN:STANDARD
TZOFFSETFROM:-0400
TZOFFSETTO:-0500
TZNAME:EST
DTSTART:20131103T060000
END:STANDARD
BEGIN:DAYLIGHT
TZOFFSETFROM:-0500
TZOFFSETTO:-0400
TZNAME:EDT
DTSTART:20140309T070000
END:DAYLIGHT
BEGIN:STANDARD
TZOFFSETFROM:-0400
TZOFFSETTO:-0500
TZNAME:EST
DTSTART:20141102T060000
END:STANDARD
END:VTIMEZONE
BEGIN:VEVENT
DTSTART;TZID=America/New_York:20130802T200000
DTEND;TZID=America/New_York:20130802T230000
DTSTAMP:20260423T225735
CREATED:20130802T200014Z
LAST-MODIFIED:20130802T211600Z
UID:10000026-1375473600-1375484400@www.alphaeast.com
SUMMARY:Pi Upsilon Lambda 20th Anniversary Celebration - Ice in White
DESCRIPTION:  \nAlpha Phi Alpha Fraternity\, Inc.\nPi Upsilon Lambda Chapter\npresents \nIce in White\nA 20th Anniversary Celebration \nCamelot by Martin’s\n13905 Central Ave  |  Upper Marlboro\, MD 20774
URL:https://www.alphaeast.com/events/pi-upsilon-lambda-20th-anniversary-celebration-ice-in-white/
LOCATION:Camelot by Martin’s\, 13905 Central Ave\, Upper Marlboro\, MD\, 20774\, United States
CATEGORIES:Alumni,Chapter Event,ERVP
END:VEVENT
END:VCALENDAR