BEGIN:VCALENDAR
VERSION:2.0
PRODID:-//Eastern Region of Alpha Phi Alpha Fraternity - ECPv6.15.16.1//NONSGML v1.0//EN
CALSCALE:GREGORIAN
METHOD:PUBLISH
X-ORIGINAL-URL:https://www.alphaeast.com
X-WR-CALDESC:Events for Eastern Region of Alpha Phi Alpha Fraternity
REFRESH-INTERVAL;VALUE=DURATION:PT1H
X-Robots-Tag:noindex
X-PUBLISHED-TTL:PT1H
BEGIN:VTIMEZONE
TZID:America/New_York
BEGIN:DAYLIGHT
TZOFFSETFROM:-0500
TZOFFSETTO:-0400
TZNAME:EDT
DTSTART:20240310T070000
END:DAYLIGHT
BEGIN:STANDARD
TZOFFSETFROM:-0400
TZOFFSETTO:-0500
TZNAME:EST
DTSTART:20241103T060000
END:STANDARD
BEGIN:DAYLIGHT
TZOFFSETFROM:-0500
TZOFFSETTO:-0400
TZNAME:EDT
DTSTART:20250309T070000
END:DAYLIGHT
BEGIN:STANDARD
TZOFFSETFROM:-0400
TZOFFSETTO:-0500
TZNAME:EST
DTSTART:20251102T060000
END:STANDARD
BEGIN:DAYLIGHT
TZOFFSETFROM:-0500
TZOFFSETTO:-0400
TZNAME:EDT
DTSTART:20260308T070000
END:DAYLIGHT
BEGIN:STANDARD
TZOFFSETFROM:-0400
TZOFFSETTO:-0500
TZNAME:EST
DTSTART:20261101T060000
END:STANDARD
END:VTIMEZONE
BEGIN:VEVENT
DTSTART;VALUE=DATE:20251114
DTEND;VALUE=DATE:20251117
DTSTAMP:20260424T100813
CREATED:20250507T052735Z
LAST-MODIFIED:20251013T111532Z
UID:10000082-1763078400-1763337599@www.alphaeast.com
SUMMARY:36th NYACOA District Convention
DESCRIPTION:Greetings Brothers of NYACOA\, \nIn accordance with Article IV\, section 5.5 of the New York Association of Chapters of Alpha constitution\, we are pleased to issue the official Convention Call for the 36th Anniversary NYACOA/District III Convention\, to be held on November 13-16\, 2025. This year’s convention will be held in Buffalo\, NY at Buffalo State University.  Our host chapters for the convention are the Rho Lambda\, Delta Epsilon\, and Phi Omicron. We could not be more excited about the Brothers of Buffalo hosting us this year. \nWe are pleased to share that this year\, the registration rate for College Brothers is again $100.00!   The registration rate for Alumni Brothers is $275.00.  Discounted rate information for chapters can be found in the convention call.    \nThis year’s theme is  “The Gateway to Greatness.”  \nAlpha\, as the first Black Greek-letter fraternity in the United States\, embodies the very spirit of Buffalo’s nickname\, “the Gateway to Greatness.” We know that Alpha Phi Alpha Fraternity\, Incorporated opens doors of opportunity not only for our members but also for the communities we serve. Much like a gateway\, the Fraternity provides a passage for our Brothers to develop their intellect\, character\, and capacity to lead—transforming ambition into action. \nThrough our various mentorship programs\, civic engagement\, and a steadfast commitment to social justice\, Alpha cultivates excellence and empowers individuals to rise above barriers\, creating pathways toward higher education\, professional success\, and meaningful community impact. In this way\, the Fraternity becomes more than an organization; it is a living conduit to greatness\, inspiring generations to uplift others\, break through limitations\, and build a future where achievement and service walk hand in hand.\n​\nWe encourage you to use our gathering in Buffalo to continue on your Gateway to Greatness! \nSincerely\, \n\n\n\n\n\n\n\n\nBro. Larry Scott Blackmon\nPresident\, NYACOA\nDistrict III Director\n\n\nBro. Anthony J. Smith\n1st Vice President\, NYACOA\n\n\n\nBro. Jamie Sterling\n2nd Vice President\, NYACOA\nAssistant District III Director
URL:https://www.alphaeast.com/events/nyacoa36th/
LOCATION:Buffalo\, NY
CATEGORIES:Alumni,College,District Event
ATTACH;FMTTYPE=image/jpeg:https://www.alphaeast.com/wp-content/uploads/2025/08/NYACOA-36th-Flyer.jpg
END:VEVENT
END:VCALENDAR